BEGIN:VCALENDAR
VERSION:2.0
PRODID:-//hacksw/handcal//NONSGML v1.0//EN
BEGIN:VEVENT
DTSTART:20250331T150000Z
DTEND:20250331T200000Z
LOCATION:KEZO, Hinwil \n2, Wildbachstrasse \n8340 HINWIL
ORGANIZER;CN=Daniel Rüffer - EASTERN SWITZERLAND CHAPTER:MAILTO:mail@danielrueffer.ch
SUMMARY:Visit of KEZO in Hinwil
DESCRIPTION:Invitation to the KEZO Visit – EPFL Alumni Eastern SwitzerlandThe EPFL Alumni Eastern Switzerland chapter warmly invites you to an exclusive visit to KEZO in Hinwil on March 31st. Witness one of the...
URL:https://epflalumni.ch/en/group/eastern-switzerland-chapter/27/calendar/visit-of-kezo-in-hinwil/2025/03/31/914
BEGIN:VALARM
TRIGGER:-P0DT1H0M0S
ACTION:DISPLAY
END:VALARM
END:VEVENT
END:VCALENDAR