BEGIN:VCALENDAR
VERSION:2.0
PRODID:-//hacksw/handcal//NONSGML v1.0//EN
BEGIN:VEVENT
DTSTART:20250402T160000Z
DTEND:20250402T173000Z
LOCATION:EPFL - SG 1138 \n1015 Lausanne
ORGANIZER;CN=EPFL Alumni:MAILTO:alumni@epfl.ch
SUMMARY:Honorary Lecture by Professor Urs von Gunten
DESCRIPTION:Join us for an inspiring Honorary Lecture by Professor Urs von Gunten where he will share his incredible journey in water research through the lens of an environmental chemist!\nDiscover the...
URL:https://epflalumni.ch/en/event/honorary-lecture-by-professor-urs-von-gunten/2025/04/02/906
BEGIN:VALARM
TRIGGER:-P0DT1H0M0S
ACTION:DISPLAY
END:VALARM
END:VEVENT
END:VCALENDAR