BEGIN:VCALENDAR
VERSION:2.0
PRODID:-//hacksw/handcal//NONSGML v1.0//EN
BEGIN:VEVENT
DTSTART:20250301T060000Z
DTEND:20250301T083000Z
LOCATION:NIO Delivery Center \nNan Xiang Li Jiao \n201802 Shanghai
ORGANIZER;CN=Zhanbing Ren - CHINA - SHANGHAI CHAPTER:MAILTO:zbren2011@gmail.com
SUMMARY:NIO Auto Tour Event
DESCRIPTION:Dear alumni and alumnae,\nWe sincerely invite you to the NIO Auto Tour Event, which will take place on Saturday, March 1st, 2025, starting at 2:00 PM and lasting approximately 2.5 hours. The event...
URL:https://epflalumni.ch/en/group/china-shanghai-chapter/39/calendar/nio-auto-tour-event/2025/03/01/899
BEGIN:VALARM
TRIGGER:-P0DT1H0M0S
ACTION:DISPLAY
END:VALARM
END:VEVENT
END:VCALENDAR