BEGIN:VCALENDAR
VERSION:2.0
PRODID:-//hacksw/handcal//NONSGML v1.0//EN
BEGIN:VEVENT
DTSTART:20250404T160000Z
DTEND:20250404T183000Z
LOCATION:Impact Hub Ticino \n3, Via Antonio Ciseri \n6900 Lugano
ORGANIZER;CN=Anna Juda - SOUTHERN SWITZERLAND CHAPTER:MAILTO:annab.juda@gmail.com
SUMMARY:EPFL and ETH Alumni Wine Tasting
DESCRIPTION:Dear alumnae and alumni,For the first time, we are organising a joint event with the ETH Ticino alumni, a unique opportunity to meet new people in a convivial wine-tasting context.The event will be...
URL:https://epflalumni.ch/en/group/southern-switzerland-chapter/67/calendar/epfl-and-eth-alumni-wine-tasting/2025/04/04/890
BEGIN:VALARM
TRIGGER:-P0DT1H0M0S
ACTION:DISPLAY
END:VALARM
END:VEVENT
END:VCALENDAR