BEGIN:VCALENDAR
VERSION:2.0
PRODID:-//hacksw/handcal//NONSGML v1.0//EN
BEGIN:VEVENT
DTSTART:20250226T110000Z
DTEND:20250302T150000Z
LOCATION:SwissTech Convention Center \n1024 Ecublens
ORGANIZER;CN=EPFL Alumni:MAILTO:alumni@epfl.ch
SUMMARY:MINT Vaud 2025
DESCRIPTION:Salon MINT Vaud\nUnique in Vaud Switzerland, MINT Vaud is an interactive and fun fair designed to inspire enthusiasm in children and adolescents (girls and boys) from 5th to 8th grade (8-12 years old)...
URL:https://epflalumni.ch/en/event/mint-vaud-2025/2025/02/26/888
BEGIN:VALARM
TRIGGER:-P0DT1H0M0S
ACTION:DISPLAY
END:VALARM
END:VEVENT
END:VCALENDAR