BEGIN:VCALENDAR
VERSION:2.0
PRODID:-//hacksw/handcal//NONSGML v1.0//EN
BEGIN:VEVENT
DTSTART:20241220T150000Z
DTEND:20241221T120000Z
LOCATION:100 meters east of the intersection of Lanyue Fourth Street and Keyuan South Road, Shenzhen. Qiuxiange, Shenzhen Talent Park \n深圳市兰月四街与科苑南路交叉口东 100 米 深圳人才公园求贤阁
ORGANIZER;CN=Ivan Istomin - CHINA - SHENZHEN / GREATER BAY AREA CHAPTER:MAILTO:ivan.istomin@phystech.edu
SUMMARY:EPFL Alumni Greater Bay Area Social Event in Shenzhen
DESCRIPTION:Dear EPFL alumni and alumnae,\nWe are pleased to invite all of you to join the EPFL Alumni Shenzhen & Greater Bay Area (GBA) gathering:                                                                 ...
URL:https://epflalumni.ch/en/group/china-shenzhen-greater-bay-area-chapter/71/calendar/epfl-alumni-greater-bay-area-social-event-in-shenzhen/2024/12/20/859
BEGIN:VALARM
TRIGGER:-P0DT1H0M0S
ACTION:DISPLAY
END:VALARM
END:VEVENT
END:VCALENDAR