BEGIN:VCALENDAR
VERSION:2.0
PRODID:-//hacksw/handcal//NONSGML v1.0//EN
BEGIN:VEVENT
DTSTART:20250130T163000Z
DTEND:20250130T183000Z
LOCATION:Mikron \n17, Via Ginnasio \n6982 AGNO
ORGANIZER;CN=Anna Juda - SOUTHERN SWITZERLAND CHAPTER:MAILTO:annab.juda@gmail.com
SUMMARY:Visit to Mikron Group in Agno
DESCRIPTION:Dear EPFL Alumni !Join us for a visit to Mikron Group in Agno.  We’re pleased to invite you to an exclusive visit to Mikron Group, a company renowned for its expertise in high-precision automation and...
URL:https://epflalumni.ch/en/group/southern-switzerland-chapter/67/calendar/visit-to-mikron-group-in-agno/2025/01/30/848
BEGIN:VALARM
TRIGGER:-P0DT1H0M0S
ACTION:DISPLAY
END:VALARM
END:VEVENT
END:VCALENDAR