BEGIN:VCALENDAR
VERSION:2.0
PRODID:-//hacksw/handcal//NONSGML v1.0//EN
BEGIN:VEVENT
DTSTART:20241116T063000Z
DTEND:20241116T093000Z
LOCATION:Western Returned Scholars Association No 3 Meeting Room \nNan He Yan Da Jie \n100006 Beijing
ORGANIZER;CN=Zhanbing Ren - CHINA - BEIJING CHAPTER:MAILTO:zbren2011@gmail.com
SUMMARY:Autumn Lecture Sharing
DESCRIPTION:We are pleased to invite all of you to join Autumn Lecture Sharing jointly organized with the Western Returned Scholars Association-Swiss Branch : \nDate :  Saturday, November 16, 2024\nTime :...
URL:https://epflalumni.ch/en/group/china-beijing-chapter/61/calendar/autumn-lecture-sharing/2024/11/16/834
BEGIN:VALARM
TRIGGER:-P0DT1H0M0S
ACTION:DISPLAY
END:VALARM
END:VEVENT
END:VCALENDAR