BEGIN:VCALENDAR
VERSION:2.0
PRODID:-//hacksw/handcal//NONSGML v1.0//EN
BEGIN:VEVENT
DTSTART:20250121T163000Z
DTEND:20250121T203000Z
LOCATION:Satellite, EPFL \n1015 Lausanne
ORGANIZER;CN=Aurélie Flandi - VAUD/VALAIS CHAPTER:MAILTO:aurelie.flandi@gmail.com
SUMMARY:Networking Afterwork Nostalgia Edition at Sat
DESCRIPTION:For the first networking aperitif of the year, your faithful Vaud-Valais chapter has put together a special evening! We look forward to welcoming you to a nostalgic edition taking place at our...
URL:https://epflalumni.ch/en/group/vaud-valais-chapter/38/calendar/networking-afterwork-nostalgia-edition-at-sat/2025/01/21/818
BEGIN:VALARM
TRIGGER:-P0DT1H0M0S
ACTION:DISPLAY
END:VALARM
END:VEVENT
END:VCALENDAR