BEGIN:VCALENDAR
VERSION:2.0
PRODID:-//hacksw/handcal//NONSGML v1.0//EN
BEGIN:VEVENT
DTSTART:20241115T173000Z
DTEND:20241115T193000Z
LOCATION:Enoteca Sorsi e Sorrisi \nVia S. Antonio 9 \n6600 Locarno
ORGANIZER;CN=Anna Juda - SOUTHERN SWITZERLAND CHAPTER:MAILTO:annab.juda@gmail.com
SUMMARY:Event Cancelled - EPFL Alumni Ticino - Wine Tasting Event
DESCRIPTION:The event has unfortunately been cancelled\nDear alumnae and alumni,This time, we invite you to explore the world of Spanish wine during a tasting guided by an expert sommelier, Nerida Deganis. Nerida...
URL:https://epflalumni.ch/en/group/southern-switzerland-chapter/67/calendar/event-cancelled-epfl-alumni-ticino-wine-tasting-event/2024/11/15/783
BEGIN:VALARM
TRIGGER:-P0DT1H0M0S
ACTION:DISPLAY
END:VALARM
END:VEVENT
END:VCALENDAR