BEGIN:VCALENDAR
VERSION:2.0
PRODID:-//hacksw/handcal//NONSGML v1.0//EN
BEGIN:VEVENT
DTSTART:20240925T163000Z
DTEND:20240925T193000Z
LOCATION:Trastevere, Rome
ORGANIZER;CN=Adrien Mulon:MAILTO:adrien.mulon@gmail.com
SUMMARY:Meet-up/Aperitivo in Rome
DESCRIPTION:Dear EPFL alumnae, alumni and new students from Lausanne,\nI hope this message will find you well after a nice summer time. We are pleased to invite you to a meet-up/aperitivo in Rome on Wednesday...
URL:https://epflalumni.ch/en/event/meet-up-aperitivo-in-rome/2024/09/25/762
BEGIN:VALARM
TRIGGER:-P0DT1H0M0S
ACTION:DISPLAY
END:VALARM
END:VEVENT
END:VCALENDAR