BEGIN:VCALENDAR
VERSION:2.0
PRODID:-//hacksw/handcal//NONSGML v1.0//EN
BEGIN:VEVENT
DTSTART:20241123T084500Z
DTEND:20241123T130000Z
LOCATION:Laboratoire souterrain de Mont Terri \n63, Route de la Gare \n2882 Saint-Ursanne
ORGANIZER;CN=EPFL Alumni - BE-FR-NE-JU CHAPTER:MAILTO:alumni@epfl.ch
SUMMARY:Visite du laboratoire souterrain de Mont Terri dans le Jura
DESCRIPTION:Le samedi 23 novembre, l'antenne BE-FR-NE-JU vous convie à la visite du laboratoire souterrain du Mont Terri à Saint-Ursanne.\nCe laboratoire est principalement destiné à deux axes de recherche. Tout ...
URL:https://epflalumni.ch/en/group/be-fr-ne-ju-chapter/46/calendar/visite-du-laboratoire-souterrain-de-mont-terri-dans-le-jura/2024/11/23/638
BEGIN:VALARM
TRIGGER:-P0DT1H0M0S
ACTION:DISPLAY
END:VALARM
END:VEVENT
END:VCALENDAR