BEGIN:VCALENDAR
VERSION:2.0
PRODID:-//hacksw/handcal//NONSGML v1.0//EN
BEGIN:VEVENT
DTSTART:20230916T063000Z
DTEND:20230916T153000Z
LOCATION:EPFL \n1015 Lausanne
ORGANIZER;CN=EPFL Alumni:MAILTO:alumni@epfl.ch
SUMMARY:Hackathon, rythmes, sécurité et vie urbaine 16 septembre à l’EPFL
DESCRIPTION:Chère·e·s expert·e·s et professionnel·le·s des questions urbaines ou événementielles, chère.e.s. collègues et ami.e.s,\nLe Laboratoire de Sociologie Urbaine (LaSUR-EPFL) et l’Institut Suisse de...
URL:https://epflalumni.ch/en/event/hackathon-rythmes-securite-et-vie-urbaine-16-septembre-a-l-epfl/2023/09/16/466
BEGIN:VALARM
TRIGGER:-P0DT1H0M0S
ACTION:DISPLAY
END:VALARM
END:VEVENT
END:VCALENDAR