BEGIN:VCALENDAR
VERSION:2.0
PRODID:-//hacksw/handcal//NONSGML v1.0//EN
BEGIN:VEVENT
DTSTART:20230427T153000Z
DTEND:20230427T193000Z
LOCATION:Forum Rolex (EPFL) \nRolex Learning Center \n1015 Lausanne
ORGANIZER;CN=EPFL Alumni:MAILTO:alumni@epfl.ch
SUMMARY:Startup Champions Seed Night 2023
DESCRIPTION:\nEPFL Alumni, the EPFL Vice Presidency for Innovation and Venturelab are delighted to welcome you to the 12th edition of the Startup Champions Seed Night 2023 at the Rolex Forum at EPFL (map...
URL:https://epflalumni.ch/en/event/startup-champions-seed-night-2023/2023/04/27/362
BEGIN:VALARM
TRIGGER:-P0DT1H0M0S
ACTION:DISPLAY
END:VALARM
END:VEVENT
END:VCALENDAR