BEGIN:VCALENDAR
VERSION:2.0
PRODID:-//hacksw/handcal//NONSGML v1.0//EN
BEGIN:VEVENT
DTSTART:20230315T170000
DTEND:20230315T190000
LOCATION:Istituto Svizzero di Roma - Villa Maraini \n20, Via Liguria \n00187 ROMA
ORGANIZER;CN=EPFL Alumni - ITALY CHAPTER:MAILTO:bullegilis@hotmail.com
SUMMARY:Event "La Svizzera Delle Donne"
DESCRIPTION:The italian chapter is thrilled to propose you to participate to a first event in 2023: “La Svizzera Delle Donne” !Organized by the Swiss Embassy in Italy and the Istituto Svizzero on the 15 March...
URL:https://epflalumni.ch/en/group/italy-chapter/30/calendar/event-la-svizzera-delle-donne/2023/03/15/341
BEGIN:VALARM
TRIGGER:-P0DT1H0M0S
ACTION:DISPLAY
END:VALARM
END:VEVENT
END:VCALENDAR