BEGIN:VCALENDAR
VERSION:2.0
PRODID:-//hacksw/handcal//NONSGML v1.0//EN
BEGIN:VEVENT
DTSTART:20260627T080000Z
DTEND:20260627T103000Z
LOCATION:Wasserkraftwerk Hagneck (Neubau) \n20 Seestrasse \n2575 Hagneck
ORGANIZER;CN=Akram Ben Hareez:MAILTO:akram.benhareez@gmail.com
SUMMARY:Visite de la centrale hydroélectrique de Hagneck
DESCRIPTION:L'antenne EPFL Alumni BE-FR-NE-JU vous convie à une visite de la centrale hydroélectrique de Hagneck, au bord du lac de Bienne.Plongez au cœur de l'énergie hydraulique et découvrez les coulisses d'une...
URL:https://epflalumni.ch/en/event/visite-de-la-centrale-hydroelectrique-de-hagneck/2026/06/27/1183
BEGIN:VALARM
TRIGGER:-P0DT1H0M0S
ACTION:DISPLAY
END:VALARM
END:VEVENT
END:VCALENDAR