BEGIN:VCALENDAR
VERSION:2.0
PRODID:-//hacksw/handcal//NONSGML v1.0//EN
BEGIN:VEVENT
DTSTART:20260628T120000Z
DTEND:20260628T140000Z
LOCATION:Bedretto
ORGANIZER;CN=David Cordier - SOUTHERN SWITZERLAND CHAPTER:MAILTO:davidcord@bluemail.ch
SUMMARY:Visita guidata BedrettoLab
DESCRIPTION:Laboratorio sotterraneo Bedretto per le geoscienze e le geoenergie\nCari Alumni,Se volete scoprire una realtà scientifica ticinese molto interessante, non perdetevi la visita al BedrettoLab! Questo...
URL:https://epflalumni.ch/en/group/southern-switzerland-chapter/67/calendar/visita-guidata-bedrettolab/2026/06/28/1178
BEGIN:VALARM
TRIGGER:-P0DT1H0M0S
ACTION:DISPLAY
END:VALARM
END:VEVENT
END:VCALENDAR