BEGIN:VCALENDAR
VERSION:2.0
PRODID:-//hacksw/handcal//NONSGML v1.0//EN
BEGIN:VEVENT
DTSTART:20260328T070000Z
DTEND:20260328T100000Z
LOCATION:Shanghai Overseas Student Home - Xiuxue Hall \nNo. 220 Sichuan Middle Road
ORGANIZER;CN=Zhanbing Ren:MAILTO:zbren2011@gmail.com
SUMMARY:EPFL Alumni Shanghai Spring Gathering
DESCRIPTION:With the recent booming development of AI technology particularly the OpenClaw, EPFL Alumni Shanghai is pleased to organize an AI-themed alumni salon: The Post OpenCalw- Alumni Discover and Explore...
URL:https://epflalumni.ch/en/event/epfl-alumni-shanghai-spring-gathering/2026/03/28/1163
BEGIN:VALARM
TRIGGER:-P0DT1H0M0S
ACTION:DISPLAY
END:VALARM
END:VEVENT
END:VCALENDAR