BEGIN:VCALENDAR
VERSION:2.0
PRODID:-//hacksw/handcal//NONSGML v1.0//EN
BEGIN:VEVENT
DTSTART:20260526T160000Z
DTEND:20260526T183000Z
LOCATION:Microcity \n71, Rue de la Maladière \n2000 NEUCHATEL
ORGANIZER;CN=Akram Ben Hareez - BE-FR-NE-JU CHAPTER:MAILTO:akram.benhareez@gmail.com
SUMMARY:Conférence "Relativité générale : des idées fondatrices aux conséquences les plus surprenantes"
DESCRIPTION:Le comité de l’antenne EPFL Alumni BE–FR–NE–JU est très heureux de vous inviter à la conférence Relativité générale : des idées fondatrices aux conséquences les plus surprenantes donnée par Olivier...
URL:https://epflalumni.ch/en/group/be-fr-ne-ju-chapter/46/calendar/conference-relativite-generale-des-idees-fondatrices-aux-consequences-les-plus-surprenantes/2026/05/26/1161
BEGIN:VALARM
TRIGGER:-P0DT1H0M0S
ACTION:DISPLAY
END:VALARM
END:VEVENT
END:VCALENDAR