BEGIN:VCALENDAR
VERSION:2.0
PRODID:-//hacksw/handcal//NONSGML v1.0//EN
BEGIN:VEVENT
DTSTART:20260425T110000Z
DTEND:20260425T150000Z
LOCATION:Espace de l’urbanisme horloger \n23, Rue Jaquet-Droz \n2300 LA CHAUX-DE-FONDS
ORGANIZER;CN=Akram Ben Hareez - BE-FR-NE-JU CHAPTER:MAILTO:akram.benhareez@gmail.com
SUMMARY:Tour of La Chaux-de-Fonds and its watchmaking urban planning
DESCRIPTION:The EPFL Alumni BE-NE-FR-JU chapter invites you to an afternoon of discovery in La Chaux-de-Fonds, exploring its famous watchmaking urban planning, a UNESCO World Heritage site.\nProgram: Visit to the...
URL:https://epflalumni.ch/en/group/be-fr-ne-ju-chapter/46/calendar/tour-of-la-chaux-de-fonds-and-its-watchmaking-urban-planning/2026/04/25/1152
BEGIN:VALARM
TRIGGER:-P0DT1H0M0S
ACTION:DISPLAY
END:VALARM
END:VEVENT
END:VCALENDAR