BEGIN:VCALENDAR
VERSION:2.0
PRODID:-//hacksw/handcal//NONSGML v1.0//EN
BEGIN:VEVENT
DTSTART:20260313T170000Z
DTEND:20260313T190000Z
LOCATION:Locarno \nBarLume \n6600 Locarno
ORGANIZER;CN=Przemyslaw Juda - SOUTHERN SWITZERLAND CHAPTER:MAILTO:przemyslaw.juda@gmail.com
SUMMARY:Afterwork in Locarno
DESCRIPTION:Dear Alumnae and Alumni in Ticino,\nJoin us for an afterwork in a relaxed atmosphere at BarLume in the città vecchia of Locarno. The first round of drinks is offered by EPFL Alumni. The event will...
URL:https://epflalumni.ch/en/group/southern-switzerland-chapter/67/calendar/afterwork-in-locarno/2026/03/13/1128
BEGIN:VALARM
TRIGGER:-P0DT1H0M0S
ACTION:DISPLAY
END:VALARM
END:VEVENT
END:VCALENDAR