BEGIN:VCALENDAR
VERSION:2.0
PRODID:-//hacksw/handcal//NONSGML v1.0//EN
BEGIN:VEVENT
DTSTART:20260312T173000Z
DTEND:20260312T203000Z
LOCATION:Gabbani Zürich \n40, Talstrasse \n8001 ZURICH
ORGANIZER;CN=Damien Nguyen - EASTERN SWITZERLAND CHAPTER:MAILTO:ngn.damien@gmail.com
SUMMARY:Networking Apero in Zurich
DESCRIPTION:The EPFL Alumni Eastern Switzerland chapter invites you to start the year with a convivial aperitif in a Zurich bar with other EPFL graduates. Students from EPFL on exchange at ETH Zürich or other...
URL:https://epflalumni.ch/en/group/eastern-switzerland-chapter/27/calendar/networking-apero-in-zurich/2026/03/12/1127
BEGIN:VALARM
TRIGGER:-P0DT1H0M0S
ACTION:DISPLAY
END:VALARM
END:VEVENT
END:VCALENDAR