BEGIN:VCALENDAR
VERSION:2.0
PRODID:-//hacksw/handcal//NONSGML v1.0//EN
BEGIN:VEVENT
DTSTART:20260219T170000Z
DTEND:20260219T210000Z
LOCATION:IMD Campus - Auditorium M100 \n34, Chemin de Bellerive \n1007 LAUSANNE
ORGANIZER;CN=Jürg Furrer - VAUD/VALAIS CHAPTER:MAILTO:juerg.furrer.ch@gmail.com
SUMMARY:Conference at IMD: Navigating Challenges in Scale-ups between Investors, Board Members and Founders
DESCRIPTION:Leadership challenges in fast moving Start-ups and Scale-ups are particularly unpredictable! The Board Chair in such companies needs to proactively navigate risk and manage stakeholders, such as...
URL:https://epflalumni.ch/en/group/vaud-valais-chapter/38/calendar/conference-at-imd-navigating-challenges-in-scale-ups-between-investors-board-members-and-founders/2026/02/19/1126
BEGIN:VALARM
TRIGGER:-P0DT1H0M0S
ACTION:DISPLAY
END:VALARM
END:VEVENT
END:VCALENDAR