BEGIN:VCALENDAR
VERSION:2.0
PRODID:-//hacksw/handcal//NONSGML v1.0//EN
BEGIN:VEVENT
DTSTART:20260128T180000Z
DTEND:20260128T210000Z
LOCATION:Bains des Pâquis \n30, Quai du Mont-Blanc \n1201 GENEVE
ORGANIZER;CN=Florian Richter - GENEVA CHAPTER:MAILTO:florian.richter@bluewin.ch
SUMMARY:Fondue at Bains des Pâquis
DESCRIPTION:To kick off 2026, EPFL Alumni Geneva is delighted to invite you to a fondue evening at the Buvette des Bains des Pâquis, a well-known Geneva spot famous for its traditional fondue with sparkling wine....
URL:https://epflalumni.ch/en/group/geneva-chapter/37/calendar/fondue-at-bains-des-paquis/2026/01/28/1105
BEGIN:VALARM
TRIGGER:-P0DT1H0M0S
ACTION:DISPLAY
END:VALARM
END:VEVENT
END:VCALENDAR