BEGIN:VCALENDAR
VERSION:2.0
PRODID:-//hacksw/handcal//NONSGML v1.0//EN
BEGIN:VEVENT
DTSTART:20260618T160000Z
DTEND:20260618T180000Z
LOCATION:A confirmer
ORGANIZER;CN=Anita Maric Fasel - WOMEN'S CLUB:MAILTO:anita.maric.fasel@gmail.com
SUMMARY:Networking Aperitif in Lausanne
DESCRIPTION:More information in May 2026
URL:https://epflalumni.ch/en/group/women-s-club/34/calendar/networking-aperitif-in-lausanne/2026/06/18/1103
BEGIN:VALARM
TRIGGER:-P0DT1H0M0S
ACTION:DISPLAY
END:VALARM
END:VEVENT
END:VCALENDAR