BEGIN:VCALENDAR
VERSION:2.0
PRODID:-//hacksw/handcal//NONSGML v1.0//EN
BEGIN:VEVENT
DTSTART:20260611T160000Z
DTEND:20260611T170000Z
LOCATION:A confirmer
ORGANIZER;CN=Manon Poffet - WOMEN'S CLUB:MAILTO:manon.poffet@gmail.com
SUMMARY:Networking Aperitif in Zurich
DESCRIPTION:More information in May 2026
URL:https://epflalumni.ch/en/group/women-s-club/34/calendar/networking-aperitif-in-zurich/2026/06/11/1101
BEGIN:VALARM
TRIGGER:-P0DT1H0M0S
ACTION:DISPLAY
END:VALARM
END:VEVENT
END:VCALENDAR