BEGIN:VCALENDAR
VERSION:2.0
PRODID:-//hacksw/handcal//NONSGML v1.0//EN
BEGIN:VEVENT
DTSTART:20251227T100000Z
DTEND:20251227T130000Z
LOCATION:Guomao（国贸）or Sanlitun（三里屯）
ORGANIZER;CN=Shun Zhao:MAILTO:zhaoshun1107@163.com
SUMMARY:EPFL Alumni Beijing - 2025 year end gathering
DESCRIPTION:Dear EPFL Alumni in Beijing area,\nWe are pleased to invite all of you to join us for New Year Gathering in Beijing with detailed arrangement as follows:.Date    Saturday December 27, 2025Time ...
URL:https://epflalumni.ch/en/event/epfl-alumni-beijing-2025-year-end-gathering/2025/12/27/1097
BEGIN:VALARM
TRIGGER:-P0DT1H0M0S
ACTION:DISPLAY
END:VALARM
END:VEVENT
END:VCALENDAR