BEGIN:VCALENDAR
VERSION:2.0
PRODID:-//hacksw/handcal//NONSGML v1.0//EN
BEGIN:VEVENT
DTSTART:20260815T080000Z
DTEND:20260815T150000Z
LOCATION:Val d'Hérens \n1985 Ferpècle
ORGANIZER;CN=Jürg Furrer - VAUD/VALAIS CHAPTER:MAILTO:juerg.furrer.ch@gmail.com
SUMMARY:Hiking in the Hérens Valley (VS) in Ferpècle (glaciers of Ferpècle and du Mont Miné)
DESCRIPTION:Visit to the Ferpècle and Mont Miné glaciersWe are pleased to invite you to a visit to the Ferpècle and Mont Miné glaciers in the Val d’Hérens on Saturday, 15 August 2026.Focused on climate change,...
URL:https://epflalumni.ch/en/group/vaud-valais-chapter/38/calendar/hiking-in-the-herens-valley-vs-in-ferpecle-glaciers-of-ferpecle-and-du-mont-mine/2026/08/15/1092
BEGIN:VALARM
TRIGGER:-P0DT1H0M0S
ACTION:DISPLAY
END:VALARM
END:VEVENT
END:VCALENDAR