BEGIN:VCALENDAR
VERSION:2.0
PRODID:-//hacksw/handcal//NONSGML v1.0//EN
BEGIN:VEVENT
DTSTART:20251216T170000Z
DTEND:20251216T200000Z
LOCATION:Mucho Bar \nAv. de la Gare 1 \n2000 Neuchatel
ORGANIZER;CN=Akram Ben Hareez - BE-FR-NE-JU CHAPTER:MAILTO:akram.benhareez@gmail.com
SUMMARY:End-of-Year Afterwork in Neuchâtel
DESCRIPTION:To wrap up the year on a warm and festive note, your Neuchâtel chapter invites you to a Latin-inspired Christmas edition! Join us at Mucho Bar for a relaxed afterwork gathering with good flavours, a...
URL:https://epflalumni.ch/en/group/be-fr-ne-ju-chapter/46/calendar/end-of-year-afterwork-in-neuchatel/2025/12/16/1084
BEGIN:VALARM
TRIGGER:-P0DT1H0M0S
ACTION:DISPLAY
END:VALARM
END:VEVENT
END:VCALENDAR