BEGIN:VCALENDAR
VERSION:2.0
PRODID:-//hacksw/handcal//NONSGML v1.0//EN
BEGIN:VEVENT
DTSTART:20251203T144500Z
DTEND:20251203T163000Z
LOCATION:Aéroport de Zurich \nFlughafenstrasse \n8302 KLOTEN
ORGANIZER;CN=Damien Nguyen - EASTERN SWITZERLAND CHAPTER:MAILTO:ngn.damien@gmail.com
SUMMARY:Guided tour of Zurich Airport maintenance facilities and Christmas drinks reception
DESCRIPTION:The EPFL Alumni Eastern Switzerland chapter cordially invites you to visit the airport maintenance site and enjoy a Christmas aperitif.\nThis brand new tour is an opportunity to discover how an...
URL:https://epflalumni.ch/en/group/eastern-switzerland-chapter/27/calendar/guided-tour-of-zurich-airport-maintenance-facilities-and-christmas-drinks-reception/2025/12/03/1075
BEGIN:VALARM
TRIGGER:-P0DT1H0M0S
ACTION:DISPLAY
END:VALARM
END:VEVENT
END:VCALENDAR