BEGIN:VCALENDAR
VERSION:2.0
PRODID:-//hacksw/handcal//NONSGML v1.0//EN
BEGIN:VEVENT
DTSTART:20251127T171500Z
DTEND:20251127T193000Z
LOCATION:Nexthink - Centre Malley-Lumière \n1, Chemin du Viaduc \n1008 PRILLY
ORGANIZER;CN=Lola Saugy - WOMEN'S CLUB:MAILTO:lola.saugy@gmail.com
SUMMARY:Nexthink - From Code to Collaboration: How Structure Shapes Productivity
DESCRIPTION:We are pleased to invite you for an event organized in collaboration with Nexthink.\nHow do software engineering teams organize themselves to deliver efficiently?\nIn this conversation with two EPFL...
URL:https://epflalumni.ch/en/group/women-s-club/34/calendar/nexthink-from-code-to-collaboration-how-structure-shapes-productivity/2025/11/27/1074
BEGIN:VALARM
TRIGGER:-P0DT1H0M0S
ACTION:DISPLAY
END:VALARM
END:VEVENT
END:VCALENDAR