BEGIN:VCALENDAR
VERSION:2.0
PRODID:-//hacksw/handcal//NONSGML v1.0//EN
BEGIN:VEVENT
DTSTART:20251126T170000Z
DTEND:20251126T200000Z
LOCATION:Le Cintra Music Bar \n10, Boulevard de Pérolles \n1700 FRIBOURG
ORGANIZER;CN=Alessio Quagliariello - BE-FR-NE-JU CHAPTER:MAILTO:alessio.quagliariello@gmail.com
SUMMARY:Networking Afterwork in Fribourg
DESCRIPTION:The EPFL Alumni BE-FR-NE-JU Chapter invites you to a networking afterwork in Fribourg on Wednesday, November 26, 2025, at 18:00.\nVenueLe Cintra Music BarBd de Pérolles 101700...
URL:https://epflalumni.ch/en/group/be-fr-ne-ju-chapter/46/calendar/networking-afterwork-in-fribourg/2025/11/26/1071
BEGIN:VALARM
TRIGGER:-P0DT1H0M0S
ACTION:DISPLAY
END:VALARM
END:VEVENT
END:VCALENDAR