BEGIN:VCALENDAR
VERSION:2.0
PRODID:-//hacksw/handcal//NONSGML v1.0//EN
BEGIN:VEVENT
DTSTART:20260602T160000Z
DTEND:20260602T193000Z
LOCATION:Lausanne \n6, Place de l'Europe \n1003 LAUSANNE
ORGANIZER;CN=Jürg Furrer - VAUD/VALAIS CHAPTER:MAILTO:juerg.furrer.ch@gmail.com
SUMMARY:Networking aperitif (JUNE 2026) at the MAD Roof Top in Lausanne
DESCRIPTION:Your Vaud-Valais chapter invites you to a networking cocktail party on Tuesday, June 2, 2026 in Lausanne. Come enjoy a few drinks and tapas in a relaxed and friendly atmosphere with other alumni. Take...
URL:https://epflalumni.ch/en/group/vaud-valais-chapter/38/calendar/networking-aperitif-june-2026-at-the-mad-roof-top-in-lausanne/2026/06/02/1056
BEGIN:VALARM
TRIGGER:-P0DT1H0M0S
ACTION:DISPLAY
END:VALARM
END:VEVENT
END:VCALENDAR