BEGIN:VCALENDAR
VERSION:2.0
PRODID:-//hacksw/handcal//NONSGML v1.0//EN
BEGIN:VEVENT
DTSTART:20260326T170000Z
DTEND:20260326T200000Z
LOCATION:Ecole 42 \n64, Rue de Lausanne \n1020 RENENS
ORGANIZER;CN=Jürg Furrer - VAUD/VALAIS CHAPTER:MAILTO:juerg.furrer.ch@gmail.com
SUMMARY:Visit to Ecole 42 in Lausanne. DARE. CODE. LEARN.
DESCRIPTION:EPFL Alumni Vaud-Valais invites you to visit Ecole 42 in Renens on Thursday, March 26, 2026.Immersion at 42 Lausanne, the school that breaks the mold. No teachers, no classes, no schedules—is this...
URL:https://epflalumni.ch/en/group/vaud-valais-chapter/38/calendar/visit-to-ecole-42-in-lausanne-dare-code-learn/2026/03/26/1051
BEGIN:VALARM
TRIGGER:-P0DT1H0M0S
ACTION:DISPLAY
END:VALARM
END:VEVENT
END:VCALENDAR