BEGIN:VCALENDAR
VERSION:2.0
PRODID:-//hacksw/handcal//NONSGML v1.0//EN
BEGIN:VEVENT
DTSTART:20251211T173000Z
DTEND:20251211T213000Z
LOCATION:Société de Lecture \nGrand-Rue 11 \n1204 Genève
ORGANIZER;CN=Matthieu George - GENEVA CHAPTER:MAILTO:matthieu.george@gmail.com
SUMMARY:Traditional Escalade cocktail reception in the presence of EPFL President, Professor Anna Fontcuberta i Morral
DESCRIPTION:EPFL Alumni Geneva is pleased to invite you to its traditional Escalade cocktail reception, which will take place in the historic salons of the Société de Lecture on Thursday, December 11, starting at...
URL:https://epflalumni.ch/en/group/geneva-chapter/37/calendar/traditional-escalade-cocktail-reception-in-the-presence-of-epfl-president-professor-anna-fontcuberta-i-morral/2025/12/11/1042
BEGIN:VALARM
TRIGGER:-P0DT1H0M0S
ACTION:DISPLAY
END:VALARM
END:VEVENT
END:VCALENDAR