BEGIN:VCALENDAR
VERSION:2.0
PRODID:-//hacksw/handcal//NONSGML v1.0//EN
BEGIN:VEVENT
DTSTART:20260225T170000Z
DTEND:20260225T210000Z
LOCATION:EPFL Valais Wallis \n17, Rue de l'Industrie \n1950 SION
ORGANIZER;CN=Jürg Furrer - VAUD/VALAIS CHAPTER:MAILTO:juerg.furrer.ch@gmail.com
SUMMARY:Swiss energy transition: give it a try! Interactive PowerPlay WORKSHOP (Sion)
DESCRIPTION:The Chapter Vaud-Valais invites you to a workshop in Sion on Wednesday February 25, 2026 at the EPFL Valais-Wallis campus.\nThrough the serious game PowerPlay, participants will gain a better...
URL:https://epflalumni.ch/en/group/vaud-valais-chapter/38/calendar/swiss-energy-transition-give-it-a-try-interactive-powerplay-workshop-sion/2026/02/25/1040
BEGIN:VALARM
TRIGGER:-P0DT1H0M0S
ACTION:DISPLAY
END:VALARM
END:VEVENT
END:VCALENDAR