BEGIN:VCALENDAR
VERSION:2.0
PRODID:-//hacksw/handcal//NONSGML v1.0//EN
BEGIN:VEVENT
DTSTART:20251029T171500Z
DTEND:20251029T200000Z
LOCATION:EPFL - Salle MED 0 1618
ORGANIZER;CN=Valentine Magnin - WOMEN'S CLUB:MAILTO:valentine.magnin92@gmail.com
SUMMARY:Welcoming New Graduates: How to Start and Advance in Your Career
DESCRIPTION:Dear alumnae,We are pleased to invite you to an aperitif-networking evening dedicated to welcoming new alumnae, on Wednesday, October 29, starting at 6:15 PM. This friendly gathering will provide an...
URL:https://epflalumni.ch/en/group/women-s-club/34/calendar/welcoming-new-graduates-how-to-start-and-advance-in-your-career/2025/10/29/1037
BEGIN:VALARM
TRIGGER:-P0DT1H0M0S
ACTION:DISPLAY
END:VALARM
END:VEVENT
END:VCALENDAR