BEGIN:VCALENDAR
VERSION:2.0
PRODID:-//hacksw/handcal//NONSGML v1.0//EN
BEGIN:VEVENT
DTSTART:20251105T163000Z
DTEND:20251105T210000Z
LOCATION:ETH Zürich Campus LEE Building - Raum LEE E101 \n21, Leonhardstrasse \n8092 ZURICH
ORGANIZER;CN=Giulia Albonico - EASTERN SWITZERLAND CHAPTER:MAILTO:giulia.albonico@protonmail.com
SUMMARY:General Assembly 2025 & Conference "Environment Management in Mining and Processing"
DESCRIPTION:SummaryThe EPFL Alumni Eastern Switzerland Association cordially invites you to its General Assembly 2025 in the auditorium LEE E101 in the LEE building of ETH Zurich.The auditorium will be accessible...
URL:https://epflalumni.ch/en/group/eastern-switzerland-chapter/27/calendar/general-assembly-2025-conference-environment-management-in-mining-and-processing/2025/11/05/1029
BEGIN:VALARM
TRIGGER:-P0DT1H0M0S
ACTION:DISPLAY
END:VALARM
END:VEVENT
END:VCALENDAR