BEGIN:VCALENDAR
VERSION:2.0
PRODID:-//hacksw/handcal//NONSGML v1.0//EN
BEGIN:VEVENT
DTSTART:20251110T170000Z
DTEND:20251110T193000Z
LOCATION:Signature by Regus \n11, Bahnhofquai \n8001 ZURICH
ORGANIZER;CN=Manon Poffet - WOMEN'S CLUB:MAILTO:manon.poffet@gmail.com
SUMMARY:"Finding Your Leadership Style" - Roundtable in Zürich & Online
DESCRIPTION:The EPFL Alumni Women Club invites you to an inspiring roundtable discussion on “Finding Your Leadership Style”, bringing together alumnae with diverse professional journeys and leadership...
URL:https://epflalumni.ch/en/group/women-s-club/34/calendar/-finding-your-leadership-style-roundtable-in-zurich-online/2025/11/10/1022
BEGIN:VALARM
TRIGGER:-P0DT1H0M0S
ACTION:DISPLAY
END:VALARM
END:VEVENT
END:VCALENDAR