BEGIN:VCALENDAR
VERSION:2.0
PRODID:-//hacksw/handcal//NONSGML v1.0//EN
BEGIN:VEVENT
DTSTART:20250913T060000Z
DTEND:20250913T110000Z
LOCATION:Qiuxiange, Shenzhen Talent Park \nBlock E, No. 2277 Keyuan South Road, Nanshan District
ORGANIZER;CN=Zhanbing Ren - CHINA - SHENZHEN / GREATER BAY AREA CHAPTER:MAILTO:zbren2011@gmail.com
SUMMARY:Alumni Gathering
DESCRIPTION:Dear EPFL Alumni,\nWe are pleased to invite all of you to join the EPFL Alumni Shenzhen & Greater Bay Area (GBA) gathering:Date: Saturday, September 13, 2025Time: 14h00-19h00 (with buffet)Location:...
URL:https://epflalumni.ch/en/group/china-shenzhen-greater-bay-area-chapter/71/calendar/alumni-gathering/2025/09/13/1012
BEGIN:VALARM
TRIGGER:-P0DT1H0M0S
ACTION:DISPLAY
END:VALARM
END:VEVENT
END:VCALENDAR