BEGIN:VCALENDAR
VERSION:2.0
PRODID:-//hacksw/handcal//NONSGML v1.0//EN
BEGIN:VEVENT
DTSTART:20250913T060000Z
DTEND:20250913T130000Z
LOCATION:Power Station of Art \nNo 679, Miaojiang Road, Huangpu District \n200011 Shanghai
ORGANIZER;CN=Zhanbing Ren - CHINA - SHANGHAI CHAPTER:MAILTO:zbren2011@gmail.com
SUMMARY:Visit to the Collection de l’Art Brut, Lausanne
DESCRIPTION:After the record hot weather in Shanghai, we are pleased to invite you to the joint event with the IMD Alumni Shanghai Club: Visit to the Collection de l’Art Brut, Lausanne.\nPractical informationDate...
URL:https://epflalumni.ch/en/group/china-shanghai-chapter/39/calendar/visit-to-the-collection-de-l-art-brut-lausanne/2025/09/13/1007
BEGIN:VALARM
TRIGGER:-P0DT1H0M0S
ACTION:DISPLAY
END:VALARM
END:VEVENT
END:VCALENDAR